BEGIN:VCALENDAR
VERSION:2.0
PRODID:icalendar-ruby
CALSCALE:GREGORIAN
METHOD:PUBLISH
BEGIN:VEVENT
DTSTAMP:20260422T104708Z
UID:40-485877@islandfamily.tithelysetup5.com
DTSTART:20261022T040000Z
DTEND:20261022T053000Z
CLASS:PUBLIC
CREATED:20260421T145413
DESCRIPTION:
LAST-MODIFIED:20260421T145413
LOCATION:
SUMMARY:Ohana Deep Dive
URL;VALUE=URI:https://islandfamily.org/events/ohana-deep-dive/2026-10-21
END:VEVENT
END:VCALENDAR
