BEGIN:VCALENDAR
VERSION:2.0
PRODID:icalendar-ruby
CALSCALE:GREGORIAN
METHOD:PUBLISH
BEGIN:VEVENT
DTSTAMP:20260420T070321Z
UID:40-482287@islandfamily.tithelysetup5.com
DTSTART:20261008T040000Z
DTEND:20261008T053000Z
CLASS:PUBLIC
CREATED:20260419T205402
DESCRIPTION:
LAST-MODIFIED:20260419T205402
LOCATION:
SUMMARY:Ohana Deep Dive
URL;VALUE=URI:https://islandfamily.org/events/ohana-deep-dive/2026-10-07
END:VEVENT
END:VCALENDAR
