BEGIN:VCALENDAR
VERSION:2.0
PRODID:icalendar-ruby
CALSCALE:GREGORIAN
METHOD:PUBLISH
BEGIN:VEVENT
DTSTAMP:20260423T151330Z
UID:55-487374@islandfamily.tithelysetup5.com
DTSTART;VALUE=DATE:20260425
DTEND;VALUE=DATE:20260425
CLASS:PUBLIC
CREATED:20260422T135810
DESCRIPTION:
LAST-MODIFIED:20260422T135810
LOCATION:
SUMMARY:No Mens Bible Study
URL;VALUE=URI:https://islandfamily.org/events/no-mens-bible-study/2026-04-2
 5
END:VEVENT
END:VCALENDAR
